BEGIN:VCALENDAR
METHOD:PUBLISH
VERSION:2.0
PRODID:-//Monthly Board Meeting//Calendar//EN

BEGIN:VEVENT
SUMMARY:Americus | Monthly Board Meeting
DESCRIPTION:
X-ALT-DESC:
UID:Event4480
DTSTART:20200204T170000Z
DTEND:20200204T180000Z
DTSTAMP:20190725T175412Z
LAST-MODIFIED:20200203T192214Z
END:VEVENT

END:VCALENDAR