BEGIN:VCALENDAR
METHOD:PUBLISH
VERSION:2.0
PRODID:-//Dekalb Rotary Council Teacher Appreciation//Calendar//EN

BEGIN:VEVENT
SUMMARY:Dekalb Rotary Council Teacher Appreciation
DESCRIPTION:Community Achievement Center4522 Flat Shoals RdDecatur
X-ALT-DESC:<p>Community Achievement Center</p><p>4522 Flat Shoals Rd</p><p>Decatur</p>
UID:Event4551
DTSTART:20200320T110000Z
DTEND:20200320T133000Z
DTSTAMP:20190830T180422Z
LAST-MODIFIED:20190830T180422Z
END:VEVENT

END:VCALENDAR