BEGIN:VCALENDAR
METHOD:PUBLISH
VERSION:2.0
PRODID:-//Governor's Visit//Calendar//EN

BEGIN:VEVENT
SUMMARY:Emory-Clifton | Governor's Visit
DESCRIPTION:
X-ALT-DESC:
UID:Event4887
DTSTART:20200317T210000Z
DTEND:20200317T230000Z
DTSTAMP:20200306T191559Z
LAST-MODIFIED:20200306T191559Z
END:VEVENT

END:VCALENDAR