BEGIN:VCALENDAR
METHOD:PUBLISH
VERSION:2.0
PRODID:-//Governor's Visi//Calendar//EN

BEGIN:VEVENT
SUMMARY:Atlanta Brasil | Governor's Visi
DESCRIPTION:
X-ALT-DESC:
UID:Event4888
DTSTART:20200411T150000Z
DTEND:20200411T173000Z
DTSTAMP:20200306T191755Z
LAST-MODIFIED:20200306T191755Z
END:VEVENT

END:VCALENDAR