BEGIN:VCALENDAR
METHOD:PUBLISH
VERSION:2.0
PRODID:-//Induction of New Board members//Calendar//EN

BEGIN:VEVENT
SUMMARY:Peachtree City | Induction of New Board members
DESCRIPTION:
X-ALT-DESC:
UID:Event4924
DTSTART:20200604T220000Z
DTEND:20200605T010000Z
DTSTAMP:20200523T010622Z
LAST-MODIFIED:20200523T010622Z
END:VEVENT

END:VCALENDAR