BEGIN:VCALENDAR
METHOD:PUBLISH
VERSION:2.0
PRODID:-//Officer Induction//Calendar//EN

BEGIN:VEVENT
SUMMARY:Emory-Druid Hills | Officer Induction
DESCRIPTION:
X-ALT-DESC:
UID:Event4925
DTSTART:20200627T160000Z
DTEND:20200627T180000Z
DTSTAMP:20200525T031622Z
LAST-MODIFIED:20200525T031622Z
END:VEVENT

END:VCALENDAR