BEGIN:VCALENDAR
METHOD:PUBLISH
VERSION:2.0
PRODID:-//Official Visit & Board Meeting //Calendar//EN

BEGIN:VEVENT
SUMMARY:Johns Creek-North Fulton | Official Visit & Board Meeting 
DESCRIPTION:
X-ALT-DESC:
UID:Event4952
DTSTART:20200819T150000Z
DTEND:20200819T170000Z
DTSTAMP:20200620T194524Z
LAST-MODIFIED:20200620T194524Z
END:VEVENT

END:VCALENDAR