BEGIN:VCALENDAR
METHOD:PUBLISH
VERSION:2.0
PRODID:-//Official Visit & Board Meeting//Calendar//EN

BEGIN:VEVENT
SUMMARY:Henry County | Official Visit & Board Meeting
DESCRIPTION:
X-ALT-DESC:
UID:Event4954
DTSTART:20200824T150000Z
DTEND:20200824T170000Z
DTSTAMP:20200620T194834Z
LAST-MODIFIED:20200620T194834Z
END:VEVENT

END:VCALENDAR