BEGIN:VCALENDAR
METHOD:PUBLISH
VERSION:2.0
PRODID:-//Official Visit & Board Meeting//Calendar//EN

BEGIN:VEVENT
SUMMARY:Barnesville | Official Visit & Board Meeting
DESCRIPTION:
X-ALT-DESC:
UID:Event4956
DTSTART:20200825T150000Z
DTEND:20200825T170000Z
DTSTAMP:20200620T195019Z
LAST-MODIFIED:20200620T195019Z
END:VEVENT

END:VCALENDAR