BEGIN:VCALENDAR
METHOD:PUBLISH
VERSION:2.0
PRODID:-//Official Visit & Board Meeting//Calendar//EN

BEGIN:VEVENT
SUMMARY:Griffin | Official Visit & Board Meeting
DESCRIPTION:
X-ALT-DESC:
UID:Event4959
DTSTART:20200827T150000Z
DTEND:20200827T170000Z
DTSTAMP:20200620T195545Z
LAST-MODIFIED:20200620T195545Z
END:VEVENT

END:VCALENDAR