BEGIN:VCALENDAR
METHOD:PUBLISH
VERSION:2.0
PRODID:-//Board & Official Visit//Calendar//EN

BEGIN:VEVENT
SUMMARY:Carrollton | Board & Official Visit
DESCRIPTION:
X-ALT-DESC:
UID:Event5069
DTSTART:20200901T150000Z
DTEND:20200901T170000Z
DTSTAMP:20200723T224742Z
LAST-MODIFIED:20200723T224742Z
END:VEVENT

END:VCALENDAR