BEGIN:VCALENDAR
METHOD:PUBLISH
VERSION:2.0
PRODID:-//Board & Official Visit//Calendar//EN

BEGIN:VEVENT
SUMMARY:Carrollton-Dawn Breakers | Board & Official Visit
DESCRIPTION:
X-ALT-DESC:
UID:Event5070
DTSTART:20200902T113000Z
DTEND:20200902T133000Z
DTSTAMP:20200723T224854Z
LAST-MODIFIED:20200723T224854Z
END:VEVENT

END:VCALENDAR