BEGIN:VCALENDAR
METHOD:PUBLISH
VERSION:2.0
PRODID:-//Board & Official Visit//Calendar//EN

BEGIN:VEVENT
SUMMARY:Americus | Board & Official Visit
DESCRIPTION:
X-ALT-DESC:
UID:Event5072
DTSTART:20200908T160000Z
DTEND:20200908T180000Z
DTSTAMP:20200723T225359Z
LAST-MODIFIED:20200723T225359Z
END:VEVENT

END:VCALENDAR