BEGIN:VCALENDAR
METHOD:PUBLISH
VERSION:2.0
PRODID:-//Board & Official Visit//Calendar//EN

BEGIN:VEVENT
SUMMARY:Atlanta Brasil | Board & Official Visit
DESCRIPTION:
X-ALT-DESC:
UID:Event5105
DTSTART:20201209T230000Z
DTEND:20201210T010000Z
DTSTAMP:20200811T175741Z
LAST-MODIFIED:20201001T050827Z
END:VEVENT

END:VCALENDAR