BEGIN:VCALENDAR
METHOD:PUBLISH
VERSION:2.0
PRODID:-//Board & Official Visit//Calendar//EN

BEGIN:VEVENT
SUMMARY:East Cobb | Board & Official Visit
DESCRIPTION:
X-ALT-DESC:
UID:Event5147
DTSTART:20201111T120000Z
DTEND:20201111T140000Z
DTSTAMP:20200831T201937Z
LAST-MODIFIED:20200831T201937Z
END:VEVENT

END:VCALENDAR