BEGIN:VCALENDAR
METHOD:PUBLISH
VERSION:2.0
PRODID:-//Board & Official Visit//Calendar//EN

BEGIN:VEVENT
SUMMARY:Moultrie | Board & Official Visit
DESCRIPTION:
X-ALT-DESC:
UID:Event5150
DTSTART:20201117T170000Z
DTEND:20201117T180000Z
DTSTAMP:20200831T202432Z
LAST-MODIFIED:20200831T202432Z
END:VEVENT

END:VCALENDAR