BEGIN:VCALENDAR
METHOD:PUBLISH
VERSION:2.0
PRODID:-//Board & Official Visit//Calendar//EN

BEGIN:VEVENT
SUMMARY:Marietta | Board & Official Visit
DESCRIPTION:
X-ALT-DESC:
UID:Event5151
DTSTART:20201118T161500Z
DTEND:20201118T181500Z
DTSTAMP:20200831T202628Z
LAST-MODIFIED:20200831T202628Z
END:VEVENT

END:VCALENDAR