BEGIN:VCALENDAR
METHOD:PUBLISH
VERSION:2.0
PRODID:-//Board & Official Visit//Calendar//EN

BEGIN:VEVENT
SUMMARY:Dallas-Paulding County | Board & Official Visit
DESCRIPTION:
X-ALT-DESC:
UID:Event5154
DTSTART:20201201T124000Z
DTEND:20201201T144000Z
DTSTAMP:20200902T012958Z
LAST-MODIFIED:20200902T012958Z
END:VEVENT

END:VCALENDAR