BEGIN:VCALENDAR
METHOD:PUBLISH
VERSION:2.0
PRODID:-//Board & Official Visit//Calendar//EN

BEGIN:VEVENT
SUMMARY:Polk County | Board & Official Visit
DESCRIPTION:
X-ALT-DESC:
UID:Event5155
DTSTART:20201201T160000Z
DTEND:20201201T180000Z
DTSTAMP:20200902T013114Z
LAST-MODIFIED:20200902T013114Z
END:VEVENT

END:VCALENDAR