BEGIN:VCALENDAR
METHOD:PUBLISH
VERSION:2.0
PRODID:-//Board & Official Visit//Calendar//EN

BEGIN:VEVENT
SUMMARY:South DeKalb County | Board & Official Visit
DESCRIPTION:
X-ALT-DESC:
UID:Event5156
DTSTART:20201202T160000Z
DTEND:20201202T180000Z
DTSTAMP:20200902T013311Z
LAST-MODIFIED:20200902T013311Z
END:VEVENT

END:VCALENDAR