BEGIN:VCALENDAR
METHOD:PUBLISH
VERSION:2.0
PRODID:-//Board & Official Visit//Calendar//EN

BEGIN:VEVENT
SUMMARY:Bremen | Board & Official Visit
DESCRIPTION:
X-ALT-DESC:
UID:Event5157
DTSTART:20201203T164500Z
DTEND:20201203T184500Z
DTSTAMP:20200902T013452Z
LAST-MODIFIED:20200902T013452Z
END:VEVENT

END:VCALENDAR