BEGIN:VCALENDAR
METHOD:PUBLISH
VERSION:2.0
PRODID:-//Board & Official Visit//Calendar//EN

BEGIN:VEVENT
SUMMARY:Jackson-Butts County | Board & Official Visit
DESCRIPTION:
X-ALT-DESC:
UID:Event5158
DTSTART:20201208T160000Z
DTEND:20201208T180000Z
DTSTAMP:20200902T013619Z
LAST-MODIFIED:20200902T013619Z
END:VEVENT

END:VCALENDAR