BEGIN:VCALENDAR
METHOD:PUBLISH
VERSION:2.0
PRODID:-//District Training - Youth & Peace in Action //Calendar//EN

BEGIN:VEVENT
SUMMARY:District Training - Youth & Peace in Action 
DESCRIPTION:District Training is 100% virtual and free!Registration is via this link  which takes you directly to this Youth & Peace in Action session registration in DacDB.  Choose Guest if you do not know your DacDB credentials or you may log in with your DacDB username and password.You will receive a reminder three days before the event containing the zoom link.  Be sure to add this event to your calendar when you complete the registration.  Because District Training is not just one day\, check the calendar for other session topics and register for as many as you like.
X-ALT-DESC:<p><b>District Training is 100% virtual and free!</b></p><p>Registration is via this<span style="background-color: rgb(255, 255, 0);"> <a href="https://Registrations.DACdb.com/Register/index.cfm?EventID=77522670&amp;NoCaptcha" target="_blank">link</a>&nbsp;</span>&nbsp;which takes you directly to this <b>Youth &amp; Peace in Action</b>&nbsp;session registration in DacDB.&nbsp; Choose Guest if you do not know your DacDB credentials or you may log in with your DacDB username and password.</p><p>You will receive a reminder three days before the event containing the zoom link.&nbsp; Be sure to add this event to your calendar when you complete the registration.&nbsp;&nbsp;</p><p>Because District Training is not just one day, check the calendar for other session topics and register for as many as you like.</p>
UID:Event5351
DTSTART:20210408T200000Z
DTEND:20210408T200000Z
DTSTAMP:20210302T214057Z
LAST-MODIFIED:20210305T060645Z
END:VEVENT

END:VCALENDAR