BEGIN:VCALENDAR
METHOD:PUBLISH
VERSION:2.0
PRODID:-//Dunwoody Official DG Visit//Calendar//EN

BEGIN:VEVENT
SUMMARY:Dunwoody | Dunwoody Official DG Visit
DESCRIPTION:Board Meeting: October 7 at 6:30 PM
X-ALT-DESC:Board Meeting: October 7 at 6:30 PM
UID:Event5616
DTSTART:20211008T111500Z
DTEND:20211008T111500Z
DTSTAMP:20210607T170741Z
LAST-MODIFIED:20210614T180225Z
END:VEVENT

END:VCALENDAR