BEGIN:VCALENDAR
METHOD:PUBLISH
VERSION:2.0
PRODID:-//Fayette Daybreak Official DG Visit//Calendar//EN

BEGIN:VEVENT
SUMMARY:Fayette Daybreak Official DG Visit
DESCRIPTION:Board Meeting: Immediately After
X-ALT-DESC:Board Meeting: Immediately After
UID:Event5622
DTSTART:20211019T111500Z
DTEND:20211019T111500Z
DTSTAMP:20210607T170741Z
LAST-MODIFIED:20210607T170741Z
END:VEVENT

END:VCALENDAR