BEGIN:VCALENDAR
METHOD:PUBLISH
VERSION:2.0
PRODID:-//Lake Spivey / Clayton County Official DG Visit//Calendar//EN

BEGIN:VEVENT
SUMMARY:Lake Spivey / Clayton County Official DG Visit
DESCRIPTION:Board Meeting: One Hour After
X-ALT-DESC:Board Meeting: One Hour After
UID:Event5623
DTSTART:20211020T113000Z
DTEND:20211020T123000Z
DTSTAMP:20210607T170741Z
LAST-MODIFIED:20211002T000548Z
END:VEVENT

END:VCALENDAR