BEGIN:VCALENDAR
METHOD:PUBLISH
VERSION:2.0
PRODID:-//District Governor Official Visit//Calendar//EN

BEGIN:VEVENT
SUMMARY:Thomasville | District Governor Official Visit
DESCRIPTION:Social - December 15th
X-ALT-DESC:<p>Social - December 15th</p>
UID:Event5734
DTSTART:20211216T171500Z
DTEND:20211216T181500Z
DTSTAMP:20210614T220424Z
LAST-MODIFIED:20211116T193540Z
END:VEVENT

END:VCALENDAR