BEGIN:VCALENDAR
METHOD:PUBLISH
VERSION:2.0
PRODID:-//Council of Governors//Calendar//EN

BEGIN:VEVENT
SUMMARY:Council of Governors
DESCRIPTION:via Zoom
X-ALT-DESC:<p>via Zoom</p>
UID:Event5934
DTSTART:20220218T000000Z
DTEND:20220218T020000Z
DTSTAMP:20210809T231345Z
LAST-MODIFIED:20220111T185550Z
END:VEVENT

END:VCALENDAR