BEGIN:VCALENDAR
METHOD:PUBLISH
VERSION:2.0
PRODID:-//Rotary Youth Exchange Inbound Students' Welcome Picnic//Calendar//EN

BEGIN:VEVENT
SUMMARY:Rotary Youth Exchange Inbound Students' Welcome Picnic
DESCRIPTION:The annual Welcome Picnic for District 6900 Rotary Youth Exchange inbound students.  The event is open to inbound students and host families\, host club members\, Certified Youth Volunteer Rotarians\, and ROTEX members.  Space is limited and registration is required.  Contact Rotary Youth Exchange Inbound Student Coordinator\, Kari Kirkley to register for the event.
X-ALT-DESC:<p>The annual Welcome Picnic for District 6900 Rotary Youth Exchange inbound students. &nbsp;The event is open to inbound students and host families, host club members, Certified Youth Volunteer Rotarians, and ROTEX members. &nbsp;Space is limited and registration is required. &nbsp;Contact Rotary Youth Exchange Inbound Student Coordinator, Kari Kirkley to register for the event.</p>
UID:Event6248
DTSTART:20220807T170000Z
DTEND:20220807T193000Z
DTSTAMP:20220516T214453Z
LAST-MODIFIED:20220516T214810Z
END:VEVENT

END:VCALENDAR