BEGIN:VCALENDAR
METHOD:PUBLISH
VERSION:2.0
PRODID:-//Douglas County Official DG Visit//Calendar//EN

BEGIN:VEVENT
SUMMARY:Douglas County | Douglas County Official DG Visit
DESCRIPTION:Board Meeting: Immediately After
X-ALT-DESC:Board Meeting: Immediately After
UID:Event6317
DTSTART:20220808T154500Z
DTEND:20220808T154500Z
DTSTAMP:20220628T012603Z
LAST-MODIFIED:20220628T152159Z
END:VEVENT

END:VCALENDAR