BEGIN:VCALENDAR
METHOD:PUBLISH
VERSION:2.0
PRODID:-//Decatur Official DG Visit//Calendar//EN

BEGIN:VEVENT
SUMMARY:Decatur | Decatur Official DG Visit
DESCRIPTION:Board Meeting: One Hour Before
X-ALT-DESC:Board Meeting: One Hour Before
UID:Event6334
DTSTART:20220909T171500Z
DTEND:20220909T171500Z
DTSTAMP:20220628T012603Z
LAST-MODIFIED:20220906T214824Z
END:VEVENT

END:VCALENDAR