BEGIN:VCALENDAR
METHOD:PUBLISH
VERSION:2.0
PRODID:-//Quitman Official DG Visit//Calendar//EN

BEGIN:VEVENT
SUMMARY:Quitman | Quitman Official DG Visit
DESCRIPTION:Board Meeting: One Hour Before
X-ALT-DESC:Board Meeting: One Hour Before
UID:Event6362
DTSTART:20221215T170000Z
DTEND:20221215T183000Z
DTSTAMP:20220628T012603Z
LAST-MODIFIED:20221115T021920Z
END:VEVENT

END:VCALENDAR