BEGIN:VCALENDAR
METHOD:PUBLISH
VERSION:2.0
PRODID:-//Zone 33-34 Leadership Summit//Calendar//EN

BEGIN:VEVENT
SUMMARY:Zone 33-34 Leadership Summit
DESCRIPTION:
X-ALT-DESC:
UID:Event6468
DTSTART:20220928T040000Z
DTEND:20221002T040000Z
DTSTAMP:20220702T200916Z
LAST-MODIFIED:20220702T201427Z
END:VEVENT

END:VCALENDAR