BEGIN:VCALENDAR
METHOD:PUBLISH
VERSION:2.0
PRODID:-//Nominating Committee//Calendar//EN

BEGIN:VEVENT
SUMMARY:Nominating Committee
DESCRIPTION:Jonesboro First Baptist Church
X-ALT-DESC:<p>Jonesboro First Baptist Church</p>
UID:Event6496
DTSTART:20221119T130000Z
DTEND:20221119T200000Z
DTSTAMP:20220713T141309Z
LAST-MODIFIED:20220713T141309Z
END:VEVENT

END:VCALENDAR