BEGIN:VCALENDAR
METHOD:PUBLISH
VERSION:2.0
PRODID:-//Cocktail Reception//Calendar//EN

BEGIN:VEVENT
SUMMARY:Buckhead | Cocktail Reception
DESCRIPTION:
X-ALT-DESC:
UID:Event6525
DTSTART:20221030T040000Z
DTEND:20221030T040000Z
DTSTAMP:20220726T035041Z
LAST-MODIFIED:20220726T035041Z
END:VEVENT

END:VCALENDAR