BEGIN:VCALENDAR
METHOD:PUBLISH
VERSION:2.0
PRODID:-//Atlanta Southern Crescent DG Visit (Zoom)//Calendar//EN

BEGIN:VEVENT
SUMMARY:Atlanta Southern Crescent | Atlanta Southern Crescent DG Visit (Zoom)
DESCRIPTION:
X-ALT-DESC:
UID:Event6531
DTSTART:20221202T170000Z
DTEND:20221202T183000Z
DTSTAMP:20220801T231841Z
LAST-MODIFIED:20220801T231841Z
END:VEVENT

END:VCALENDAR