BEGIN:VCALENDAR
METHOD:PUBLISH
VERSION:2.0
PRODID:-//Atlanta Official District Governor Visit//Calendar//EN

BEGIN:VEVENT
SUMMARY:Atlanta Official District Governor Visit
DESCRIPTION:
X-ALT-DESC:
UID:Event6534
DTSTART:20221114T171500Z
DTEND:20221114T181500Z
DTSTAMP:20220802T234326Z
LAST-MODIFIED:20220802T234326Z
END:VEVENT

END:VCALENDAR