BEGIN:VCALENDAR
METHOD:PUBLISH
VERSION:2.0
PRODID:-//Atlanta Southern Crescent Social//Calendar//EN

BEGIN:VEVENT
SUMMARY:Atlanta Southern Crescent Social
DESCRIPTION:
X-ALT-DESC:
UID:Event6678
DTSTART:20221201T050000Z
DTEND:20221201T050000Z
DTSTAMP:20221015T171907Z
LAST-MODIFIED:20221015T171907Z
END:VEVENT

END:VCALENDAR