BEGIN:VCALENDAR
METHOD:PUBLISH
VERSION:2.0
PRODID:-//DG Official Visit- Marietta//Calendar//EN

BEGIN:VEVENT
SUMMARY:DG Official Visit- Marietta
DESCRIPTION:
X-ALT-DESC:
UID:Event7031
DTSTART:20231004T161500Z
DTEND:20231004T161500Z
DTSTAMP:20230521T001031Z
LAST-MODIFIED:20230701T012628Z
END:VEVENT

END:VCALENDAR