BEGIN:VCALENDAR
METHOD:PUBLISH
VERSION:2.0
PRODID:-//DG Official Visit-Henry County//Calendar//EN

BEGIN:VEVENT
SUMMARY:DG Official Visit-Henry County
DESCRIPTION:
X-ALT-DESC:
UID:Event7037
DTSTART:20230828T160000Z
DTEND:20230828T160000Z
DTSTAMP:20230521T002133Z
LAST-MODIFIED:20230521T002133Z
END:VEVENT

END:VCALENDAR