BEGIN:VCALENDAR
METHOD:PUBLISH
VERSION:2.0
PRODID:-//Finance Committee Meeting//Calendar//EN

BEGIN:VEVENT
SUMMARY:Finance Committee Meeting
DESCRIPTION:
X-ALT-DESC:
UID:Event7041
DTSTART:20230821T220000Z
DTEND:20230821T220000Z
DTSTAMP:20230521T002357Z
LAST-MODIFIED:20230814T175400Z
END:VEVENT

END:VCALENDAR