BEGIN:VCALENDAR
METHOD:PUBLISH
VERSION:2.0
PRODID:-//DG Official Visit- North Atlanta//Calendar//EN

BEGIN:VEVENT
SUMMARY:DG Official Visit- North Atlanta
DESCRIPTION:
X-ALT-DESC:
UID:Event7042
DTSTART:20231214T171500Z
DTEND:20231214T171500Z
DTSTAMP:20230521T002417Z
LAST-MODIFIED:20231023T193247Z
END:VEVENT

END:VCALENDAR