BEGIN:VCALENDAR
METHOD:PUBLISH
VERSION:2.0
PRODID:-//GRSP Conclave//Calendar//EN

BEGIN:VEVENT
SUMMARY:GRSP Conclave
DESCRIPTION:
X-ALT-DESC:
UID:Event7043
DTSTART:20230818T040000Z
DTEND:20230820T040000Z
DTSTAMP:20230521T002455Z
LAST-MODIFIED:20230521T002455Z
END:VEVENT

END:VCALENDAR