BEGIN:VCALENDAR
METHOD:PUBLISH
VERSION:2.0
PRODID:-//DG Official Visit-Carrollton Dawn-Breakers//Calendar//EN

BEGIN:VEVENT
SUMMARY:DG Official Visit-Carrollton Dawn-Breakers
DESCRIPTION:
X-ALT-DESC:
UID:Event7046
DTSTART:20230816T113000Z
DTEND:20230816T113000Z
DTSTAMP:20230521T002736Z
LAST-MODIFIED:20230521T002736Z
END:VEVENT

END:VCALENDAR