BEGIN:VCALENDAR
METHOD:PUBLISH
VERSION:2.0
PRODID:-//DG Official Visit-Carrollton//Calendar//EN

BEGIN:VEVENT
SUMMARY:DG Official Visit-Carrollton
DESCRIPTION:
X-ALT-DESC:
UID:Event7048
DTSTART:20230815T160000Z
DTEND:20230815T160000Z
DTSTAMP:20230521T002947Z
LAST-MODIFIED:20230710T002634Z
END:VEVENT

END:VCALENDAR