BEGIN:VCALENDAR
METHOD:PUBLISH
VERSION:2.0
PRODID:-//DG Official Visit-Lake Spivey/Clayton County//Calendar//EN

BEGIN:VEVENT
SUMMARY:DG Official Visit-Lake Spivey/Clayton County
DESCRIPTION:
X-ALT-DESC:
UID:Event7050
DTSTART:20230809T113000Z
DTEND:20230809T113000Z
DTSTAMP:20230521T003045Z
LAST-MODIFIED:20230521T003045Z
END:VEVENT

END:VCALENDAR