BEGIN:VCALENDAR
METHOD:PUBLISH
VERSION:2.0
PRODID:-//DG Official Visit-Atlanta Brasil//Calendar//EN

BEGIN:VEVENT
SUMMARY:DG Official Visit-Atlanta Brasil
DESCRIPTION:
X-ALT-DESC:
UID:Event7051
DTSTART:20230928T223000Z
DTEND:20230827T000000Z
DTSTAMP:20230521T003238Z
LAST-MODIFIED:20230826T172608Z
END:VEVENT

END:VCALENDAR