BEGIN:VCALENDAR
METHOD:PUBLISH
VERSION:2.0
PRODID:-//DG Official Visit- West Point//Calendar//EN

BEGIN:VEVENT
SUMMARY:DG Official Visit- West Point
DESCRIPTION:410 W 10th St West Point\,GA
X-ALT-DESC:<p>410 W 10th St West Point,GA</p>
UID:Event7053
DTSTART:20240111T170000Z
DTEND:20240111T180000Z
DTSTAMP:20230521T003441Z
LAST-MODIFIED:20231107T194859Z
END:VEVENT

END:VCALENDAR