BEGIN:VCALENDAR
METHOD:PUBLISH
VERSION:2.0
PRODID:-//DG Official Visit-Columbus//Calendar//EN

BEGIN:VEVENT
SUMMARY:DG Official Visit-Columbus
DESCRIPTION:
X-ALT-DESC:
UID:Event7056
DTSTART:20231011T160000Z
DTEND:20231011T160000Z
DTSTAMP:20230521T003628Z
LAST-MODIFIED:20230822T022337Z
END:VEVENT

END:VCALENDAR