BEGIN:VCALENDAR
METHOD:PUBLISH
VERSION:2.0
PRODID:-//LaGrange 100th Gala//Calendar//EN

BEGIN:VEVENT
SUMMARY:LaGrange 100th Gala
DESCRIPTION:
X-ALT-DESC:
UID:Event7059
DTSTART:20230926T220000Z
DTEND:20230926T220000Z
DTSTAMP:20230521T003802Z
LAST-MODIFIED:20230521T003802Z
END:VEVENT

END:VCALENDAR